BEGIN:VCALENDAR
VERSION:2.0
PRODID:-//The Laughing Forest - ECPv6.15.20//NONSGML v1.0//EN
CALSCALE:GREGORIAN
METHOD:PUBLISH
X-ORIGINAL-URL:https://thelaughingforest.ca
X-WR-CALDESC:Events for The Laughing Forest
REFRESH-INTERVAL;VALUE=DURATION:PT1H
X-Robots-Tag:noindex
X-PUBLISHED-TTL:PT1H
BEGIN:VTIMEZONE
TZID:America/Toronto
BEGIN:DAYLIGHT
TZOFFSETFROM:-0500
TZOFFSETTO:-0400
TZNAME:EDT
DTSTART:20250309T070000
END:DAYLIGHT
BEGIN:STANDARD
TZOFFSETFROM:-0400
TZOFFSETTO:-0500
TZNAME:EST
DTSTART:20251102T060000
END:STANDARD
BEGIN:DAYLIGHT
TZOFFSETFROM:-0500
TZOFFSETTO:-0400
TZNAME:EDT
DTSTART:20260308T070000
END:DAYLIGHT
BEGIN:STANDARD
TZOFFSETFROM:-0400
TZOFFSETTO:-0500
TZNAME:EST
DTSTART:20261101T060000
END:STANDARD
BEGIN:DAYLIGHT
TZOFFSETFROM:-0500
TZOFFSETTO:-0400
TZNAME:EDT
DTSTART:20270314T070000
END:DAYLIGHT
BEGIN:STANDARD
TZOFFSETFROM:-0400
TZOFFSETTO:-0500
TZNAME:EST
DTSTART:20271107T060000
END:STANDARD
END:VTIMEZONE
BEGIN:VEVENT
DTSTART;TZID=America/Toronto:20260920T100000
DTEND;TZID=America/Toronto:20260920T160000
DTSTAMP:20260422T183149
CREATED:20260415T170623Z
LAST-MODIFIED:20260415T170623Z
UID:878-1789898400-1789920000@thelaughingforest.ca
SUMMARY:Deeply Rooted Day Retreat
DESCRIPTION:Step into a day of quiet renewal\, where the rhythm of the forest gently guides you back to yourself. Surrounded by towering trees\, soft moss\, and the soothing sounds of wind through leaves\, this nature-inspired day retreat offers a sanctuary away from the noise of everyday life. \nRooted in the healing essence of the forest\, this retreat blends the proven restorative qualities of forest therapy with simple\, supportive tools to help you soften stress and carry a sense of balance into your everyday life. \nWe’ll begin our day with a forest meditation walk\, guided mindful breathing practices and gentle movement in nature\, followed by a sound bath meditation\, invoking a deeper sense of calm and connection to nature\, and to yourself. \nYou’ll be immersed in grounding activities – nature journaling\, and reflective practices designed to restore balance and clarity. \nYour retreat includes a holistic picnic lunch\, wildcrafted teas and a holistic snack. \nYou’ll leave feeling refreshed\, grounded and gently reawakened\, carrying the stillness of the forest with you long after you return. \nPlus\, a single day trip in the forest – breathing in the terpenes released from the trees\, moss\, ferns\, fungi and plant life – boosts your immune system and anti-cancer cells by about 50 per cent\, with improvements in immune cell numbers and anti-cancer proteins lasting for at least seven days. \nDate: Saturday\, July 19\, 2026 at The Laughing Forest in Spanish\, ON.  www.thelaughingforest.ca \nTime: 10 a.m. to 4 p.m. \nCost: $111+tx/person. Register as a couple and save 5%. \nFor more information or to register\, email Sari at friends@thelaughingforest.ca or call 705-662-1469. \nRetreat facilitator: Sari Huhtala (bio)
URL:https://thelaughingforest.ca/event/deeply-rooted-day-retreat-3/
END:VEVENT
END:VCALENDAR