BEGIN:VCALENDAR
VERSION:2.0
PRODID:-//The Laughing Forest - ECPv6.15.20//NONSGML v1.0//EN
CALSCALE:GREGORIAN
METHOD:PUBLISH
X-WR-CALNAME:The Laughing Forest
X-ORIGINAL-URL:https://thelaughingforest.ca
X-WR-CALDESC:Events for The Laughing Forest
REFRESH-INTERVAL;VALUE=DURATION:PT1H
X-Robots-Tag:noindex
X-PUBLISHED-TTL:PT1H
BEGIN:VTIMEZONE
TZID:America/Toronto
BEGIN:DAYLIGHT
TZOFFSETFROM:-0500
TZOFFSETTO:-0400
TZNAME:EDT
DTSTART:20250309T070000
END:DAYLIGHT
BEGIN:STANDARD
TZOFFSETFROM:-0400
TZOFFSETTO:-0500
TZNAME:EST
DTSTART:20251102T060000
END:STANDARD
BEGIN:DAYLIGHT
TZOFFSETFROM:-0500
TZOFFSETTO:-0400
TZNAME:EDT
DTSTART:20260308T070000
END:DAYLIGHT
BEGIN:STANDARD
TZOFFSETFROM:-0400
TZOFFSETTO:-0500
TZNAME:EST
DTSTART:20261101T060000
END:STANDARD
BEGIN:DAYLIGHT
TZOFFSETFROM:-0500
TZOFFSETTO:-0400
TZNAME:EDT
DTSTART:20270314T070000
END:DAYLIGHT
BEGIN:STANDARD
TZOFFSETFROM:-0400
TZOFFSETTO:-0500
TZNAME:EST
DTSTART:20271107T060000
END:STANDARD
END:VTIMEZONE
BEGIN:VEVENT
DTSTART;TZID=America/Toronto:20261024T100000
DTEND;TZID=America/Toronto:20261024T150000
DTSTAMP:20260422T201146
CREATED:20250826T123345Z
LAST-MODIFIED:20260220T144848Z
UID:814-1792836000-1792854000@thelaughingforest.ca
SUMMARY:Hand and foot massage workshop
DESCRIPTION:This workshop\, offered by the White Willow Centre for Natural Therapies and Holistic Study\, is perfect for anyone who would like to learn how to provide rejuvenating hand and foot massage treatments that enhance relaxation\, relieve tension and promote a sense of well-being. From practitioners looking to enhance their offerings to parents and caregivers interested in learning a wonderful way of relieving stress\, the Hand and Foot Massage workshop is designed to share the general wellness benefits of focusing on two often-overlooked areas of the body. \nParticipants will delve into techniques that target the hands and feet\, recognizing their significance in overall well-being. \nThis workshop emphasizes the therapeutic effects of massage on these extremities\, which are vital for daily activities and often bear the brunt of stress.Throughout the session\, attendees will learn various massage techniques tailored specifically for the hands and feet. \nParticipants will acquire practical skills and gain a deeper appreciation for the therapeutic potential of hand and foot massage in everyday use.  \nDesiree Marcotte\, certified myomassologist (which includes reflexology\, Swedish massage & other modalities) has been practicing in the Sudbury area since 2012\, and is also a certified instructor. \nYou have the option to turn your training experience into an overnight self-care retreat at The Laughing Forest. \nThe one-day workshop takes place in Spanish\, ON at The Laughing Forest. \nDate: Saturday\, Oct. 24 \, 2026 10 a.m. – 3 p.m. \nHand & Foot Massage Workshop fee: $225 (no tax) $50 deposit required to secure your spot. Email Sari at friends@thelaughingforest.ca or call 705-662-1469 for info or to register. \nRetreat option: \nGive yourself some extra pampering during your learning experience by adding on an overnight stay\, which includes a holistic\, plant-based dinner and breakfast\, decadent chocolate healthy desserts\, an evening sound bath meditation and foot soak and hand and foot massage exchange\, and learn how to do a lymphatic facial massage on yourself. Plus\, morning Chakra Flow body movement and breathwork. Stay and walk the nature trails for a forest bathing experience\, or book a spa session in the morning or on Saturday evening. \nThere is the option to book a 30-minute holistic spa session for $30 (Indian Head Massage\, Craniosacral Therapy\, Reiki\, Swedish Massage or Reflexology) during your stay. \nCost of retreat option add on: $119 (plus tax). \nEmail Sari at friends@thelaughingforest.ca or call 705-662-1469 for info or to register. \n  \n 
URL:https://thelaughingforest.ca/event/hand-and-foot-massage-workshop/
END:VEVENT
END:VCALENDAR